BEGIN:VCALENDAR
VERSION:2.0
PRODID:-//Let&#039;s DMV - ECPv6.15.20//NONSGML v1.0//EN
CALSCALE:GREGORIAN
METHOD:PUBLISH
X-ORIGINAL-URL:https://letsdmv.net
X-WR-CALDESC:Events for Let&#039;s DMV
REFRESH-INTERVAL;VALUE=DURATION:PT1H
X-Robots-Tag:noindex
X-PUBLISHED-TTL:PT1H
BEGIN:VTIMEZONE
TZID:America/Halifax
BEGIN:DAYLIGHT
TZOFFSETFROM:-0400
TZOFFSETTO:-0300
TZNAME:ADT
DTSTART:20250309T060000
END:DAYLIGHT
BEGIN:STANDARD
TZOFFSETFROM:-0300
TZOFFSETTO:-0400
TZNAME:AST
DTSTART:20251102T050000
END:STANDARD
BEGIN:DAYLIGHT
TZOFFSETFROM:-0400
TZOFFSETTO:-0300
TZNAME:ADT
DTSTART:20260308T060000
END:DAYLIGHT
BEGIN:STANDARD
TZOFFSETFROM:-0300
TZOFFSETTO:-0400
TZNAME:AST
DTSTART:20261101T050000
END:STANDARD
BEGIN:DAYLIGHT
TZOFFSETFROM:-0400
TZOFFSETTO:-0300
TZNAME:ADT
DTSTART:20270314T060000
END:DAYLIGHT
BEGIN:STANDARD
TZOFFSETFROM:-0300
TZOFFSETTO:-0400
TZNAME:AST
DTSTART:20271107T050000
END:STANDARD
BEGIN:DAYLIGHT
TZOFFSETFROM:-0400
TZOFFSETTO:-0300
TZNAME:ADT
DTSTART:20280312T060000
END:DAYLIGHT
BEGIN:STANDARD
TZOFFSETFROM:-0300
TZOFFSETTO:-0400
TZNAME:AST
DTSTART:20281105T050000
END:STANDARD
END:VTIMEZONE
BEGIN:VTIMEZONE
TZID:UTC
BEGIN:STANDARD
TZOFFSETFROM:+0000
TZOFFSETTO:+0000
TZNAME:UTC
DTSTART:20260101T000000
END:STANDARD
END:VTIMEZONE
BEGIN:VEVENT
DTSTART;TZID=America/Halifax:20260425T180000
DTEND;TZID=America/Halifax:20260425T210000
DTSTAMP:20260425T114415
CREATED:20260423T014132Z
LAST-MODIFIED:20260423T185530Z
UID:3402-1777140000-1777150800@letsdmv.net
SUMMARY:Mr. Trash Wheel's Earth Day Birthday
DESCRIPTION:Join Mr. Trash Wheel and the gang for an unforgettable evening at the Public Works Experience! Mark your calendars for a night of harbor-cleaning hype\, local art\, and great vibes. \n\nThe Details\n\n\nWhen: Saturday\, April 25th\, 2026 | 6:00 PM – 9:00 PM \n\n\nWhere: The Public Works Experience \n\n\nThe Big Event: Be the first to see the exclusive advance screening of the “Mr. Trash Wheel (Hero of the Harbor)” music video! \n\n\nWhat’s Included with Your Registration?\nEvery guest gets the royal “trash-treatment” with some fantastic perks: \n\n\n🥤 The Swag: A limited-edition\, reusable Mr. Trash Wheel cup. \n\n\n🍺 The Brews: One free drink ticket for a refreshing Peabody Heights Brewery beverage. \n\n\n🍴 The Eats: Exclusive access to two of the city's best food trucks: Mexican on the Run and Underground Pizza. \n\n\nDon't miss out on the party of the season. Let’s celebrate the hero our harbor deserves!
URL:https://letsdmv.net/calendar/mr-trash-wheels-earth-day-birthday-2026/
LOCATION:Public Works Experience\, 751 Eastern Avenue\, Baltimore\, MD\, 21202\, United States
CATEGORIES:Baltimore
ATTACH;FMTTYPE=image/png:https://letsdmv.net/wp-content/uploads/2026/04/Untitled-design-3-1.png
END:VEVENT
BEGIN:VEVENT
DTSTART;TZID=America/Halifax:20260426T160000
DTEND;TZID=America/Halifax:20260426T190000
DTSTAMP:20260425T114415
CREATED:20260417T144655Z
LAST-MODIFIED:20260424T140456Z
UID:3354-1777219200-1777230000@letsdmv.net
SUMMARY:Bookclub Meeting for April 2026
DESCRIPTION:Join us for a discussion on the book\, Project Hail Mary by Andy Weir \nget the book on Amazon: Project Hail Mary \nboth virtual and in person meeting. \nAfter the discussion we are planning on watching the movie. \nbring snack or drinks to share \nJoin  the book club: letsdmv.net/bookclub
URL:https://letsdmv.net/calendar/bookclub-meeting-april-2026/
LOCATION:Let’s DMV (secert loaction #1)\, Join the Whatapp chat for address)\, Baltimore\, MD\, 21224\, United States
CATEGORIES:Bookclub
ATTACH;FMTTYPE=image/png:https://letsdmv.net/wp-content/uploads/2026/04/April-Book-Club-Meeting-26-April-2026.png
END:VEVENT
BEGIN:VEVENT
DTSTART;TZID=America/Halifax:20260517T090000
DTEND;TZID=America/Halifax:20260517T120000
DTSTAMP:20260425T114415
CREATED:20260422T162244Z
LAST-MODIFIED:20260424T140432Z
UID:3379-1779008400-1779019200@letsdmv.net
SUMMARY:Let's Hike DMV - Group Hike - 17 May 2026
DESCRIPTION:LET’S HIKE DMV – 17 May group hike.\n\n\nJoin us for a fun\, in-person group hike\, somewhere in the DMV area. We will pick the location as we get closer to the date. \nTrail Details:\nDate: 17 May 2026\nTime: 9am – 12 pm\nLocation: TBD \nRSVP REQUIRED (FREE):\nRSVP will be posted on Eventbrite \nDownload AllTrails Map (REQUIRED!!!):\nUse the official trail map here: \nAlltrails\n  \nIMPORTANT:\nThis is a group hike. Please stay with the group\, respect the trail\, and come prepared to enjoy the experience. \nLocation: TBD (somewhere in the DMV)\nDate: 5/17\nMeet Time: 9:00 AM (we start on time)\nPace: All levels welcome – we hike together \nTrail Details:\nTBD \nWhat to Expect:\nTBD \nWhat to Bring:\nWater\nHiking shoes with good grip (trail can be slippery)\nSnacks\nComfortable activewear \nParking & Directions:\nTBD \nTrail Notes:\nTBD\n————————— \n\nNOTE: Be sure to join the Whatsapp chat. That's how we exchange last minute hike information\, directions\, and shear hike pictures. \nLetDMV.net/Chat\n\nFor more information on our other events sign up for our Newsletter and never miss a Let's DMV event!
URL:https://letsdmv.net/calendar/hike-17may2026/
CATEGORIES:DMV Hikes,Hikes
ATTACH;FMTTYPE=image/png:https://letsdmv.net/wp-content/uploads/2025/12/Lets-Hike-DMV-logo.png
END:VEVENT
BEGIN:VEVENT
DTSTART;TZID=America/Halifax:20260524T120000
DTEND;TZID=America/Halifax:20260524T170000
DTSTAMP:20260425T114415
CREATED:20260422T173406Z
LAST-MODIFIED:20260422T210833Z
UID:3382-1779624000-1779642000@letsdmv.net
SUMMARY:Memorial Day Bash - Save The Date
DESCRIPTION:We will be having a Memorial Day Weekend Bash at Centennial Park on May 24th\, 2026 \nSave the date – More information to come
URL:https://letsdmv.net/calendar/memorial-day-bash-save-the-date/
LOCATION:Centennial Park\, 10000 Clarksville Pike\, Ellicott City\, MD\, 21042\, United States
CATEGORIES:Party
ATTACH;FMTTYPE=image/png:https://letsdmv.net/wp-content/uploads/2026/04/save-the-date-flyers-1.png
END:VEVENT
BEGIN:VEVENT
DTSTART;TZID=America/Halifax:20260531T160000
DTEND;TZID=America/Halifax:20260531T170000
DTSTAMP:20260425T114415
CREATED:20260422T213752Z
LAST-MODIFIED:20260424T140449Z
UID:3389-1780243200-1780246800@letsdmv.net
SUMMARY:Bookclub Meeting - May 2026
DESCRIPTION:Meeting and book TBD \n 
URL:https://letsdmv.net/calendar/bookclub-may2026/
CATEGORIES:Bookclub
ATTACH;FMTTYPE=image/png:https://letsdmv.net/wp-content/uploads/2026/04/April-Book-Club-Meeting-26-April-2026-1.png
END:VEVENT
BEGIN:VEVENT
DTSTART;TZID=America/Halifax:20270403T073000
DTEND;TZID=America/Halifax:20270403T120000
DTSTAMP:20260425T114415
CREATED:20260413T001006Z
LAST-MODIFIED:20260413T001804Z
UID:3228-1806737400-1806753600@letsdmv.net
SUMMARY:Cherry Blossom 5K
DESCRIPTION:Join us for the Cherry Blossom 5K in Arlington Va. Enjoy a good time with good friends in the middle of a sea off pink blooms. \nDate: Sunday\, April 3\, 2027\nDistance: 5K (3.1 Miles)\nStart time: 7:30 AM\nCheck-in opens: 6:00 AM \nWe always have a good time at our runs. This is no exception\, we hope to see you there! \n—————————\nKeep in touch by joining our Whatsapp\, LetsDMV Chat\, this is how we send out last minute information and photos of the event after we have had our fun. \nFor more information on our other events sign up for our Newsletter and never miss a Let's DMV event!
URL:https://letsdmv.net/calendar/cherry-blossom-5k-2/
LOCATION:Virginia Highland Park\, 1600 S\, Hayes St.\, Arlington\, Virgina\, 22202\, United States
CATEGORIES:Races,Virgina
ATTACH;FMTTYPE=image/png:https://letsdmv.net/wp-content/uploads/2026/04/Calendar-event-headers-2.png
END:VEVENT
BEGIN:VEVENT
DTSTART;TZID=UTC:20270404T070000
DTEND;TZID=UTC:20270404T120000
DTSTAMP:20260425T114415
CREATED:20260413T030201Z
LAST-MODIFIED:20260412T233504Z
UID:3220-1806822000-1806840000@letsdmv.net
SUMMARY:Cherry Blossom 10 Miler
DESCRIPTION:Join us for one of the most scenic road races of the spring season — 10 miles through blooming cherry blossom trails in Downtown Washington D.C.\, celebrating community\, fitness\, and the beauty of the season. \nDate: Sunday\, April 4\, 2027\nDistance: 10 miles\nStart time: 7:30 AM\nCheck-in opens: 6:00 AM \nWhether you're a seasoned racer chasing a personal best or a first-timer soaking in the blossoms\, this race is for you. Run alongside friends\, family\, and fellow credit union members in a morning you won't forget. \nRun entry is based on a lottery that usually opens in December and closes in mid-January
URL:https://letsdmv.net/calendar/cherry-blossom-5k/
LOCATION:Washington Monument\, 2 15th St NW\, Washington\, DC\, 20024
CATEGORIES:D.C.,Races
ATTACH;FMTTYPE=image/png:https://letsdmv.net/wp-content/uploads/2026/04/Copy-of-Untitled-Design-1.png
END:VEVENT
END:VCALENDAR